BEGIN:VCALENDAR
PRODID:-//eluceo/ical//2.0/EN
VERSION:2.0
CALSCALE:GREGORIAN
BEGIN:VEVENT
UID:d75eae50ae0d599935a292fca84d43d2
DTSTAMP:20260421T083709Z
SUMMARY:Törn 2025 Tall ship Abel Tasman
DESCRIPTION:
URL:https://iyfr.ch/bs/agenda/show/172627
DTSTART;TZID=Europe/Zurich:20250906T100000
DTEND;TZID=Europe/Zurich:20250913T100000
LOCATION:Ostsee\, Mer Baltique
CATEGORIES:Rotary
END:VEVENT
BEGIN:VTIMEZONE
TZID:Europe/Zurich
BEGIN:DAYLIGHT
DTSTART:20250906T100000
TZNAME:CEST
TZOFFSETTO:+0200
TZOFFSETFROM:+0200
END:DAYLIGHT
END:VTIMEZONE
END:VCALENDAR
